BEGIN:VCALENDAR
VERSION:2.0
PRODID:-//Ventura Raceway - ECPv6.15.20//NONSGML v1.0//EN
CALSCALE:GREGORIAN
METHOD:PUBLISH
X-ORIGINAL-URL:https://venturaraceway.com
X-WR-CALDESC:Events for Ventura Raceway
REFRESH-INTERVAL;VALUE=DURATION:PT1H
X-Robots-Tag:noindex
X-PUBLISHED-TTL:PT1H
BEGIN:VTIMEZONE
TZID:America/Los_Angeles
BEGIN:DAYLIGHT
TZOFFSETFROM:-0800
TZOFFSETTO:-0700
TZNAME:PDT
DTSTART:20240310T100000
END:DAYLIGHT
BEGIN:STANDARD
TZOFFSETFROM:-0700
TZOFFSETTO:-0800
TZNAME:PST
DTSTART:20241103T090000
END:STANDARD
BEGIN:DAYLIGHT
TZOFFSETFROM:-0800
TZOFFSETTO:-0700
TZNAME:PDT
DTSTART:20250309T100000
END:DAYLIGHT
BEGIN:STANDARD
TZOFFSETFROM:-0700
TZOFFSETTO:-0800
TZNAME:PST
DTSTART:20251102T090000
END:STANDARD
BEGIN:DAYLIGHT
TZOFFSETFROM:-0800
TZOFFSETTO:-0700
TZNAME:PDT
DTSTART:20260308T100000
END:DAYLIGHT
BEGIN:STANDARD
TZOFFSETFROM:-0700
TZOFFSETTO:-0800
TZNAME:PST
DTSTART:20261101T090000
END:STANDARD
END:VTIMEZONE
BEGIN:VEVENT
DTSTART;TZID=America/Los_Angeles:20250607T080000
DTEND;TZID=America/Los_Angeles:20250607T170000
DTSTAMP:20260420T112745
CREATED:20250312T204015Z
LAST-MODIFIED:20250312T204015Z
UID:6604-1749283200-1749315600@venturaraceway.com
SUMMARY:Off Night
DESCRIPTION:
URL:https://venturaraceway.com/event/off-night-10/
END:VEVENT
BEGIN:VEVENT
DTSTART;TZID=America/Los_Angeles:20250614T150000
DTEND;TZID=America/Los_Angeles:20250614T220000
DTSTAMP:20260420T112745
CREATED:20250312T204353Z
LAST-MODIFIED:20250312T204353Z
UID:6613-1749913200-1749938400@venturaraceway.com
SUMMARY:USCS Sprint Cars\, USAC Midgets\, VRA Hobby Stocks\, IMCA Sport Compacts
DESCRIPTION:
URL:https://venturaraceway.com/event/uscs-sprint-cars-usac-midgets-vra-hobby-stocks-imca-sport-compacts/
END:VEVENT
BEGIN:VEVENT
DTSTART;TZID=America/Los_Angeles:20250621T150000
DTEND;TZID=America/Los_Angeles:20250621T220000
DTSTAMP:20260420T112745
CREATED:20250312T204503Z
LAST-MODIFIED:20250312T204503Z
UID:6616-1750518000-1750543200@venturaraceway.com
SUMMARY:VRA Sprint Cars\, Senior Sprints\, VRA Dwarf Cars\, California Lightning Sprints\, NMRA TQ Midgets\, VRA Junior Classes
DESCRIPTION:
URL:https://venturaraceway.com/event/vra-sprint-cars-senior-sprints-vra-dwarf-cars-california-lightning-sprints-nmra-tq-midgets-vra-junior-classes/
END:VEVENT
BEGIN:VEVENT
DTSTART;TZID=America/Los_Angeles:20250628T150000
DTEND;TZID=America/Los_Angeles:20250628T220000
DTSTAMP:20260420T112745
CREATED:20250312T204620Z
LAST-MODIFIED:20250312T204620Z
UID:6619-1751122800-1751148000@venturaraceway.com
SUMMARY:VRA Sprint Cars\, Senior Sprints\, IMCA Sport Compacts\, VRA Hobby Stocks\, Go-Karts\, Motorcycles
DESCRIPTION:
URL:https://venturaraceway.com/event/vra-sprint-cars-senior-sprints-imca-sport-compacts-vra-hobby-stocks-go-karts-motorcycles/
END:VEVENT
END:VCALENDAR