BEGIN:VCALENDAR
VERSION:2.0
PRODID:-//Ventura Raceway - ECPv6.15.20//NONSGML v1.0//EN
CALSCALE:GREGORIAN
METHOD:PUBLISH
X-ORIGINAL-URL:https://venturaraceway.com
X-WR-CALDESC:Events for Ventura Raceway
REFRESH-INTERVAL;VALUE=DURATION:PT1H
X-Robots-Tag:noindex
X-PUBLISHED-TTL:PT1H
BEGIN:VTIMEZONE
TZID:America/Los_Angeles
BEGIN:DAYLIGHT
TZOFFSETFROM:-0800
TZOFFSETTO:-0700
TZNAME:PDT
DTSTART:20240310T100000
END:DAYLIGHT
BEGIN:STANDARD
TZOFFSETFROM:-0700
TZOFFSETTO:-0800
TZNAME:PST
DTSTART:20241103T090000
END:STANDARD
BEGIN:DAYLIGHT
TZOFFSETFROM:-0800
TZOFFSETTO:-0700
TZNAME:PDT
DTSTART:20250309T100000
END:DAYLIGHT
BEGIN:STANDARD
TZOFFSETFROM:-0700
TZOFFSETTO:-0800
TZNAME:PST
DTSTART:20251102T090000
END:STANDARD
BEGIN:DAYLIGHT
TZOFFSETFROM:-0800
TZOFFSETTO:-0700
TZNAME:PDT
DTSTART:20260308T100000
END:DAYLIGHT
BEGIN:STANDARD
TZOFFSETFROM:-0700
TZOFFSETTO:-0800
TZNAME:PST
DTSTART:20261101T090000
END:STANDARD
END:VTIMEZONE
BEGIN:VEVENT
DTSTART;TZID=America/Los_Angeles:20250503T153000
DTEND;TZID=America/Los_Angeles:20250503T220000
DTSTAMP:20260420T131724
CREATED:20250312T203508Z
LAST-MODIFIED:20250312T203534Z
UID:6588-1746286200-1746309600@venturaraceway.com
SUMMARY:VRA Dwarf Cars\, IMCA Modifieds\, VRA Hobby Stocks\, IMCA Sport Compacts\, VRA Junior Classes
DESCRIPTION:
URL:https://venturaraceway.com/event/vra-dwarf-cars-imca-modifieds-vra-hobby-stocks-imca-sport-compacts-vra-junior-classes-2/
END:VEVENT
BEGIN:VEVENT
DTSTART;TZID=America/Los_Angeles:20250510T150000
DTEND;TZID=America/Los_Angeles:20250510T220000
DTSTAMP:20260420T131724
CREATED:20250312T203637Z
LAST-MODIFIED:20250312T203637Z
UID:6591-1746889200-1746914400@venturaraceway.com
SUMMARY:VRA Sprint Cars\, Senior Sprints\, VRA Dwarf Cars\, IMCA Sport Compacts\, VRA Junior Classes\, Demolition Derby #1
DESCRIPTION:
URL:https://venturaraceway.com/event/vra-sprint-cars-senior-sprints-vra-dwarf-cars-imca-sport-compacts-vra-junior-classes-demolition-derby-1/
END:VEVENT
BEGIN:VEVENT
DTSTART;VALUE=DATE:20250517
DTEND;VALUE=DATE:20250518
DTSTAMP:20260420T131724
CREATED:20250312T203814Z
LAST-MODIFIED:20250312T203814Z
UID:6595-1747440000-1747526399@venturaraceway.com
SUMMARY:Off Night
DESCRIPTION:
URL:https://venturaraceway.com/event/off-night-7/
END:VEVENT
BEGIN:VEVENT
DTSTART;VALUE=DATE:20250524
DTEND;VALUE=DATE:20250525
DTSTAMP:20260420T131724
CREATED:20250312T203838Z
LAST-MODIFIED:20250312T203838Z
UID:6598-1748044800-1748131199@venturaraceway.com
SUMMARY:Off Night
DESCRIPTION:
URL:https://venturaraceway.com/event/off-night-8/
END:VEVENT
END:VCALENDAR