BEGIN:VCALENDAR
VERSION:2.0
PRODID:-//Ventura Raceway - ECPv6.15.20//NONSGML v1.0//EN
CALSCALE:GREGORIAN
METHOD:PUBLISH
X-ORIGINAL-URL:https://venturaraceway.com
X-WR-CALDESC:Events for Ventura Raceway
REFRESH-INTERVAL;VALUE=DURATION:PT1H
X-Robots-Tag:noindex
X-PUBLISHED-TTL:PT1H
BEGIN:VTIMEZONE
TZID:America/Los_Angeles
BEGIN:DAYLIGHT
TZOFFSETFROM:-0800
TZOFFSETTO:-0700
TZNAME:PDT
DTSTART:20240310T100000
END:DAYLIGHT
BEGIN:STANDARD
TZOFFSETFROM:-0700
TZOFFSETTO:-0800
TZNAME:PST
DTSTART:20241103T090000
END:STANDARD
BEGIN:DAYLIGHT
TZOFFSETFROM:-0800
TZOFFSETTO:-0700
TZNAME:PDT
DTSTART:20250309T100000
END:DAYLIGHT
BEGIN:STANDARD
TZOFFSETFROM:-0700
TZOFFSETTO:-0800
TZNAME:PST
DTSTART:20251102T090000
END:STANDARD
BEGIN:DAYLIGHT
TZOFFSETFROM:-0800
TZOFFSETTO:-0700
TZNAME:PDT
DTSTART:20260308T100000
END:DAYLIGHT
BEGIN:STANDARD
TZOFFSETFROM:-0700
TZOFFSETTO:-0800
TZNAME:PST
DTSTART:20261101T090000
END:STANDARD
END:VTIMEZONE
BEGIN:VEVENT
DTSTART;TZID=America/Los_Angeles:20250412T150000
DTEND;TZID=America/Los_Angeles:20250412T220000
DTSTAMP:20260420T162751
CREATED:20250312T201443Z
LAST-MODIFIED:20250312T201443Z
UID:6572-1744470000-1744495200@venturaraceway.com
SUMMARY:VRA Dwarf Cars\, IMCA Modifieds\, VRA Hobby Stocks\, IMCA Sport Compacts\, VRA Junior Classes
DESCRIPTION:
URL:https://venturaraceway.com/event/vra-dwarf-cars-imca-modifieds-vra-hobby-stocks-imca-sport-compacts-vra-junior-classes/
END:VEVENT
END:VCALENDAR